BEGIN:VCALENDAR
VERSION:2.0
PRODID:-//https://www.fbcsheridan.org///NONSGML kigkonsult.se iCalcreator 2.10.15//
METHOD:PUBLISH
BEGIN:VEVENT
UID:20260421T071212UTC-8863sOHule@https://www.fbcsheridan.org/
DTSTAMP:20260421T071212Z
DESCRIPTION: https://www.fbcsheridan.org/events/event/989-sunday-morning-wo
 rship-service
DTSTART:20450101T190000Z
DTEND:20450101T200000Z
LOCATION:Faith Baptist Church (4101 Riosa Road\, Sheridan\, CA 95681)
SUMMARY:Sunday Morning Worship Service
URL:https://www.fbcsheridan.org/events/event/989-sunday-morning-worship-ser
 vice
END:VEVENT
BEGIN:VEVENT
UID:20260421T071212UTC-8866sMtmv5@https://www.fbcsheridan.org/
DTSTAMP:20260421T071212Z
DESCRIPTION: https://www.fbcsheridan.org/events/event/2241-sunday-school
DTSTART:20450101T180000Z
DTEND:20450101T190000Z
LOCATION:Faith Baptist Church (4101 Riosa Road\, Sheridan\, CA 95681)
SUMMARY:Sunday School
URL:https://www.fbcsheridan.org/events/event/2241-sunday-school
END:VEVENT
BEGIN:VEVENT
UID:20260421T071212UTC-8867C8WGfz@https://www.fbcsheridan.org/
DTSTAMP:20260421T071212Z
DESCRIPTION: https://www.fbcsheridan.org/events/event/3494-sunday-evening-s
 ervice
DTSTART:20450102T010000Z
DTEND:20450102T020000Z
LOCATION:Faith Baptist Church (4101 Riosa Road\, Sheridan\, CA 95681)
SUMMARY:Sunday Evening Service
URL:https://www.fbcsheridan.org/events/event/3494-sunday-evening-service
END:VEVENT
END:VCALENDAR
