BEGIN:VCALENDAR
VERSION:2.0
PRODID:-//https://www.fbcsheridan.org///NONSGML kigkonsult.se iCalcreator 2.10.15//
METHOD:PUBLISH
BEGIN:VEVENT
UID:20260420T132150UTC-6789tr6W6w@https://www.fbcsheridan.org/
DTSTAMP:20260420T132150Z
DESCRIPTION: https://www.fbcsheridan.org/events/event/937-sunday-morning-wo
 rship-service
DTSTART:20440103T190000Z
DTEND:20440103T200000Z
LOCATION:Faith Baptist Church (4101 Riosa Road\, Sheridan\, CA 95681)
SUMMARY:Sunday Morning Worship Service
URL:https://www.fbcsheridan.org/events/event/937-sunday-morning-worship-ser
 vice
END:VEVENT
BEGIN:VEVENT
UID:20260420T132150UTC-6790mmapT8@https://www.fbcsheridan.org/
DTSTAMP:20260420T132150Z
DESCRIPTION: https://www.fbcsheridan.org/events/event/2189-sunday-school
DTSTART:20440103T180000Z
DTEND:20440103T190000Z
LOCATION:Faith Baptist Church (4101 Riosa Road\, Sheridan\, CA 95681)
SUMMARY:Sunday School
URL:https://www.fbcsheridan.org/events/event/2189-sunday-school
END:VEVENT
BEGIN:VEVENT
UID:20260420T132150UTC-6791eAtpsZ@https://www.fbcsheridan.org/
DTSTAMP:20260420T132150Z
DESCRIPTION: https://www.fbcsheridan.org/events/event/3442-sunday-evening-s
 ervice
DTSTART:20440104T010000Z
DTEND:20440104T020000Z
LOCATION:Faith Baptist Church (4101 Riosa Road\, Sheridan\, CA 95681)
SUMMARY:Sunday Evening Service
URL:https://www.fbcsheridan.org/events/event/3442-sunday-evening-service
END:VEVENT
END:VCALENDAR
