BEGIN:VCALENDAR
VERSION:2.0
PRODID:-//https://www.fbcsheridan.org///NONSGML kigkonsult.se iCalcreator 2.10.15//
METHOD:PUBLISH
BEGIN:VEVENT
UID:20260419T201937UTC-7280oL6vHD@https://www.fbcsheridan.org/
DTSTAMP:20260419T201937Z
DESCRIPTION: https://www.fbcsheridan.org/events/event/4643-wednesday-evenin
 g-service
DTSTART:20430108T030000Z
DTEND:20430108T040000Z
LOCATION:Faith Baptist Church (4101 Riosa Road\, Sheridan\, CA 95681)
SUMMARY:Wednesday Evening Service
URL:https://www.fbcsheridan.org/events/event/4643-wednesday-evening-service
END:VEVENT
END:VCALENDAR
