BEGIN:VCALENDAR
VERSION:2.0
PRODID:-//https://www.fbcsheridan.org///NONSGML kigkonsult.se iCalcreator 2.10.15//
METHOD:PUBLISH
BEGIN:VEVENT
UID:20260422T002708UTC-8053cPKbmm@https://www.fbcsheridan.org/
DTSTAMP:20260422T002708Z
DESCRIPTION: https://www.fbcsheridan.org/events/event/1042-sunday-morning-w
 orship-service
DTSTART:20460107T190000Z
DTEND:20460107T200000Z
LOCATION:Faith Baptist Church (4101 Riosa Road\, Sheridan\, CA 95681)
SUMMARY:Sunday Morning Worship Service
URL:https://www.fbcsheridan.org/events/event/1042-sunday-morning-worship-se
 rvice
END:VEVENT
BEGIN:VEVENT
UID:20260422T002708UTC-8055EKVM5J@https://www.fbcsheridan.org/
DTSTAMP:20260422T002708Z
DESCRIPTION: https://www.fbcsheridan.org/events/event/2294-sunday-school
DTSTART:20460107T180000Z
DTEND:20460107T190000Z
LOCATION:Faith Baptist Church (4101 Riosa Road\, Sheridan\, CA 95681)
SUMMARY:Sunday School
URL:https://www.fbcsheridan.org/events/event/2294-sunday-school
END:VEVENT
BEGIN:VEVENT
UID:20260422T002708UTC-8056gejzsI@https://www.fbcsheridan.org/
DTSTAMP:20260422T002708Z
DESCRIPTION: https://www.fbcsheridan.org/events/event/3547-sunday-evening-s
 ervice
DTSTART:20460108T010000Z
DTEND:20460108T020000Z
LOCATION:Faith Baptist Church (4101 Riosa Road\, Sheridan\, CA 95681)
SUMMARY:Sunday Evening Service
URL:https://www.fbcsheridan.org/events/event/3547-sunday-evening-service
END:VEVENT
END:VCALENDAR
