BEGIN:VCALENDAR
VERSION:2.0
PRODID:-//https://www.fbcsheridan.org///NONSGML kigkonsult.se iCalcreator 2.10.15//
METHOD:PUBLISH
BEGIN:VEVENT
UID:20260422T184223UTC-1025hpPFZh@https://www.fbcsheridan.org/
DTSTAMP:20260422T184223Z
DESCRIPTION: https://www.fbcsheridan.org/events/event/1095-sunday-morning-w
 orship-service
DTSTART:20470113T190000Z
DTEND:20470113T200000Z
LOCATION:Faith Baptist Church (4101 Riosa Road\, Sheridan\, CA 95681)
SUMMARY:Sunday Morning Worship Service
URL:https://www.fbcsheridan.org/events/event/1095-sunday-morning-worship-se
 rvice
END:VEVENT
BEGIN:VEVENT
UID:20260422T184223UTC-1026ZTeIlO@https://www.fbcsheridan.org/
DTSTAMP:20260422T184223Z
DESCRIPTION: https://www.fbcsheridan.org/events/event/2347-sunday-school
DTSTART:20470113T180000Z
DTEND:20470113T190000Z
LOCATION:Faith Baptist Church (4101 Riosa Road\, Sheridan\, CA 95681)
SUMMARY:Sunday School
URL:https://www.fbcsheridan.org/events/event/2347-sunday-school
END:VEVENT
BEGIN:VEVENT
UID:20260422T184223UTC-1027sd401K@https://www.fbcsheridan.org/
DTSTAMP:20260422T184223Z
DESCRIPTION: https://www.fbcsheridan.org/events/event/3600-sunday-evening-s
 ervice
DTSTART:20470114T010000Z
DTEND:20470114T020000Z
LOCATION:Faith Baptist Church (4101 Riosa Road\, Sheridan\, CA 95681)
SUMMARY:Sunday Evening Service
URL:https://www.fbcsheridan.org/events/event/3600-sunday-evening-service
END:VEVENT
END:VCALENDAR
