BEGIN:VCALENDAR
VERSION:2.0
PRODID:-//https://www.fbcsheridan.org///NONSGML kigkonsult.se iCalcreator 2.10.15//
METHOD:PUBLISH
BEGIN:VEVENT
UID:20260423T132013UTC-1636DU0RwF@https://www.fbcsheridan.org/
DTSTAMP:20260423T132013Z
DESCRIPTION: https://www.fbcsheridan.org/events/event/4905-wednesday-evenin
 g-service
DTSTART:20480116T030000Z
DTEND:20480116T040000Z
LOCATION:Faith Baptist Church (4101 Riosa Road\, Sheridan\, CA 95681)
SUMMARY:Wednesday Evening Service
URL:https://www.fbcsheridan.org/events/event/4905-wednesday-evening-service
END:VEVENT
END:VCALENDAR
