BEGIN:VCALENDAR
VERSION:2.0
PRODID:-//https://www.fbcsheridan.org///NONSGML kigkonsult.se iCalcreator 2.10.15//
METHOD:PUBLISH
BEGIN:VEVENT
UID:20260420T132043UTC-0447eotuUA@https://www.fbcsheridan.org/
DTSTAMP:20260420T132043Z
DESCRIPTION: https://www.fbcsheridan.org/events/event/939-sunday-morning-wo
 rship-service
DTSTART:20440117T190000Z
DTEND:20440117T200000Z
LOCATION:Faith Baptist Church (4101 Riosa Road\, Sheridan\, CA 95681)
SUMMARY:Sunday Morning Worship Service
URL:https://www.fbcsheridan.org/events/event/939-sunday-morning-worship-ser
 vice
END:VEVENT
BEGIN:VEVENT
UID:20260420T132043UTC-04497PjuVd@https://www.fbcsheridan.org/
DTSTAMP:20260420T132043Z
DESCRIPTION: https://www.fbcsheridan.org/events/event/2191-sunday-school
DTSTART:20440117T180000Z
DTEND:20440117T190000Z
LOCATION:Faith Baptist Church (4101 Riosa Road\, Sheridan\, CA 95681)
SUMMARY:Sunday School
URL:https://www.fbcsheridan.org/events/event/2191-sunday-school
END:VEVENT
BEGIN:VEVENT
UID:20260420T132043UTC-0450acOvZE@https://www.fbcsheridan.org/
DTSTAMP:20260420T132043Z
DESCRIPTION: https://www.fbcsheridan.org/events/event/3444-sunday-evening-s
 ervice
DTSTART:20440118T010000Z
DTEND:20440118T020000Z
LOCATION:Faith Baptist Church (4101 Riosa Road\, Sheridan\, CA 95681)
SUMMARY:Sunday Evening Service
URL:https://www.fbcsheridan.org/events/event/3444-sunday-evening-service
END:VEVENT
END:VCALENDAR
