BEGIN:VCALENDAR
VERSION:2.0
PRODID:-//https://www.fbcsheridan.org///NONSGML kigkonsult.se iCalcreator 2.10.15//
METHOD:PUBLISH
BEGIN:VEVENT
UID:20260423T131956UTC-2149JW2iCx@https://www.fbcsheridan.org/
DTSTAMP:20260423T131956Z
DESCRIPTION: https://www.fbcsheridan.org/events/event/1148-sunday-morning-w
 orship-service
DTSTART:20480119T190000Z
DTEND:20480119T200000Z
LOCATION:Faith Baptist Church (4101 Riosa Road\, Sheridan\, CA 95681)
SUMMARY:Sunday Morning Worship Service
URL:https://www.fbcsheridan.org/events/event/1148-sunday-morning-worship-se
 rvice
END:VEVENT
BEGIN:VEVENT
UID:20260423T131956UTC-21516v9RHb@https://www.fbcsheridan.org/
DTSTAMP:20260423T131956Z
DESCRIPTION: https://www.fbcsheridan.org/events/event/2400-sunday-school
DTSTART:20480119T180000Z
DTEND:20480119T190000Z
LOCATION:Faith Baptist Church (4101 Riosa Road\, Sheridan\, CA 95681)
SUMMARY:Sunday School
URL:https://www.fbcsheridan.org/events/event/2400-sunday-school
END:VEVENT
BEGIN:VEVENT
UID:20260423T131956UTC-21512hLhTv@https://www.fbcsheridan.org/
DTSTAMP:20260423T131956Z
DESCRIPTION: https://www.fbcsheridan.org/events/event/3653-sunday-evening-s
 ervice
DTSTART:20480120T010000Z
DTEND:20480120T020000Z
LOCATION:Faith Baptist Church (4101 Riosa Road\, Sheridan\, CA 95681)
SUMMARY:Sunday Evening Service
URL:https://www.fbcsheridan.org/events/event/3653-sunday-evening-service
END:VEVENT
END:VCALENDAR
