BEGIN:VCALENDAR
VERSION:2.0
PRODID:-//https://www.fbcsheridan.org///NONSGML kigkonsult.se iCalcreator 2.10.15//
METHOD:PUBLISH
BEGIN:VEVENT
UID:20260419T201947UTC-5163JJvcAP@https://www.fbcsheridan.org/
DTSTAMP:20260419T201947Z
DESCRIPTION: https://www.fbcsheridan.org/events/event/888-sunday-morning-wo
 rship-service
DTSTART:20430125T190000Z
DTEND:20430125T200000Z
LOCATION:Faith Baptist Church (4101 Riosa Road\, Sheridan\, CA 95681)
SUMMARY:Sunday Morning Worship Service
URL:https://www.fbcsheridan.org/events/event/888-sunday-morning-worship-ser
 vice
END:VEVENT
BEGIN:VEVENT
UID:20260419T201947UTC-5165fWHGKU@https://www.fbcsheridan.org/
DTSTAMP:20260419T201947Z
DESCRIPTION: https://www.fbcsheridan.org/events/event/2140-sunday-school
DTSTART:20430125T180000Z
DTEND:20430125T190000Z
LOCATION:Faith Baptist Church (4101 Riosa Road\, Sheridan\, CA 95681)
SUMMARY:Sunday School
URL:https://www.fbcsheridan.org/events/event/2140-sunday-school
END:VEVENT
BEGIN:VEVENT
UID:20260419T201947UTC-5166bSBvH9@https://www.fbcsheridan.org/
DTSTAMP:20260419T201947Z
DESCRIPTION: https://www.fbcsheridan.org/events/event/3393-sunday-evening-s
 ervice
DTSTART:20430126T010000Z
DTEND:20430126T020000Z
LOCATION:Faith Baptist Church (4101 Riosa Road\, Sheridan\, CA 95681)
SUMMARY:Sunday Evening Service
URL:https://www.fbcsheridan.org/events/event/3393-sunday-evening-service
END:VEVENT
END:VCALENDAR
