BEGIN:VCALENDAR
VERSION:2.0
PRODID:-//https://www.fbcsheridan.org///NONSGML kigkonsult.se iCalcreator 2.10.15//
METHOD:PUBLISH
BEGIN:VEVENT
UID:20260421T071254UTC-2398VNcRKu@https://www.fbcsheridan.org/
DTSTAMP:20260421T071254Z
DESCRIPTION: https://www.fbcsheridan.org/events/event/4750-wednesday-evenin
 g-service
DTSTART:20450126T030000Z
DTEND:20450126T040000Z
LOCATION:Faith Baptist Church (4101 Riosa Road\, Sheridan\, CA 95681)
SUMMARY:Wednesday Evening Service
URL:https://www.fbcsheridan.org/events/event/4750-wednesday-evening-service
END:VEVENT
END:VCALENDAR
