BEGIN:VCALENDAR
VERSION:2.0
PRODID:-//https://www.fbcsheridan.org///NONSGML kigkonsult.se iCalcreator 2.10.15//
METHOD:PUBLISH
BEGIN:VEVENT
UID:20260419T204244UTC-9069cfr2dK@https://www.fbcsheridan.org/
DTSTAMP:20260419T204244Z
DESCRIPTION: https://www.fbcsheridan.org/events/event/4646-wednesday-evenin
 g-service
DTSTART:20430129T030000Z
DTEND:20430129T040000Z
LOCATION:Faith Baptist Church (4101 Riosa Road\, Sheridan\, CA 95681)
SUMMARY:Wednesday Evening Service
URL:https://www.fbcsheridan.org/events/event/4646-wednesday-evening-service
END:VEVENT
END:VCALENDAR
