BEGIN:VCALENDAR
VERSION:2.0
PRODID:-//https://www.fbcsheridan.org///NONSGML kigkonsult.se iCalcreator 2.10.15//
METHOD:PUBLISH
BEGIN:VEVENT
UID:20260422T002734UTC-1355IwpV8j@https://www.fbcsheridan.org/
DTSTAMP:20260422T002734Z
DESCRIPTION: https://www.fbcsheridan.org/events/event/1045-sunday-morning-w
 orship-service
DTSTART:20460128T190000Z
DTEND:20460128T200000Z
LOCATION:Faith Baptist Church (4101 Riosa Road\, Sheridan\, CA 95681)
SUMMARY:Sunday Morning Worship Service
URL:https://www.fbcsheridan.org/events/event/1045-sunday-morning-worship-se
 rvice
END:VEVENT
BEGIN:VEVENT
UID:20260422T002734UTC-13568I0Hra@https://www.fbcsheridan.org/
DTSTAMP:20260422T002734Z
DESCRIPTION: https://www.fbcsheridan.org/events/event/2297-sunday-school
DTSTART:20460128T180000Z
DTEND:20460128T190000Z
LOCATION:Faith Baptist Church (4101 Riosa Road\, Sheridan\, CA 95681)
SUMMARY:Sunday School
URL:https://www.fbcsheridan.org/events/event/2297-sunday-school
END:VEVENT
BEGIN:VEVENT
UID:20260422T002734UTC-1357R0ISi1@https://www.fbcsheridan.org/
DTSTAMP:20260422T002734Z
DESCRIPTION: https://www.fbcsheridan.org/events/event/3550-sunday-evening-s
 ervice
DTSTART:20460129T010000Z
DTEND:20460129T020000Z
LOCATION:Faith Baptist Church (4101 Riosa Road\, Sheridan\, CA 95681)
SUMMARY:Sunday Evening Service
URL:https://www.fbcsheridan.org/events/event/3550-sunday-evening-service
END:VEVENT
END:VCALENDAR
