BEGIN:VCALENDAR
VERSION:2.0
PRODID:-//https://www.fbcsheridan.org///NONSGML kigkonsult.se iCalcreator 2.10.15//
METHOD:PUBLISH
BEGIN:VEVENT
UID:20260422T200531UTC-26834CpdPU@https://www.fbcsheridan.org/
DTSTAMP:20260422T200531Z
DESCRIPTION: https://www.fbcsheridan.org/events/event/1098-sunday-morning-w
 orship-service
DTSTART:20470203T190000Z
DTEND:20470203T200000Z
LOCATION:Faith Baptist Church (4101 Riosa Road\, Sheridan\, CA 95681)
SUMMARY:Sunday Morning Worship Service
URL:https://www.fbcsheridan.org/events/event/1098-sunday-morning-worship-se
 rvice
END:VEVENT
BEGIN:VEVENT
UID:20260422T200531UTC-2684uCTxaI@https://www.fbcsheridan.org/
DTSTAMP:20260422T200531Z
DESCRIPTION: https://www.fbcsheridan.org/events/event/2350-sunday-school
DTSTART:20470203T180000Z
DTEND:20470203T190000Z
LOCATION:Faith Baptist Church (4101 Riosa Road\, Sheridan\, CA 95681)
SUMMARY:Sunday School
URL:https://www.fbcsheridan.org/events/event/2350-sunday-school
END:VEVENT
BEGIN:VEVENT
UID:20260422T200531UTC-2685g3E38X@https://www.fbcsheridan.org/
DTSTAMP:20260422T200531Z
DESCRIPTION: https://www.fbcsheridan.org/events/event/3603-sunday-evening-s
 ervice
DTSTART:20470204T010000Z
DTEND:20470204T020000Z
LOCATION:Faith Baptist Church (4101 Riosa Road\, Sheridan\, CA 95681)
SUMMARY:Sunday Evening Service
URL:https://www.fbcsheridan.org/events/event/3603-sunday-evening-service
END:VEVENT
END:VCALENDAR
