BEGIN:VCALENDAR
VERSION:2.0
PRODID:-//https://www.fbcsheridan.org///NONSGML kigkonsult.se iCalcreator 2.10.15//
METHOD:PUBLISH
BEGIN:VEVENT
UID:20260422T015637UTC-2208KCz9vr@https://www.fbcsheridan.org/
DTSTAMP:20260422T015637Z
DESCRIPTION: https://www.fbcsheridan.org/events/event/1046-sunday-morning-w
 orship-service
DTSTART:20460204T190000Z
DTEND:20460204T200000Z
LOCATION:Faith Baptist Church (4101 Riosa Road\, Sheridan\, CA 95681)
SUMMARY:Sunday Morning Worship Service
URL:https://www.fbcsheridan.org/events/event/1046-sunday-morning-worship-se
 rvice
END:VEVENT
BEGIN:VEVENT
UID:20260422T015637UTC-2209umu00O@https://www.fbcsheridan.org/
DTSTAMP:20260422T015637Z
DESCRIPTION: https://www.fbcsheridan.org/events/event/2298-sunday-school
DTSTART:20460204T180000Z
DTEND:20460204T190000Z
LOCATION:Faith Baptist Church (4101 Riosa Road\, Sheridan\, CA 95681)
SUMMARY:Sunday School
URL:https://www.fbcsheridan.org/events/event/2298-sunday-school
END:VEVENT
BEGIN:VEVENT
UID:20260422T015637UTC-2210bksVCD@https://www.fbcsheridan.org/
DTSTAMP:20260422T015637Z
DESCRIPTION: https://www.fbcsheridan.org/events/event/3551-sunday-evening-s
 ervice
DTSTART:20460205T010000Z
DTEND:20460205T020000Z
LOCATION:Faith Baptist Church (4101 Riosa Road\, Sheridan\, CA 95681)
SUMMARY:Sunday Evening Service
URL:https://www.fbcsheridan.org/events/event/3551-sunday-evening-service
END:VEVENT
END:VCALENDAR
