BEGIN:VCALENDAR
VERSION:2.0
PRODID:-//https://www.fbcsheridan.org///NONSGML kigkonsult.se iCalcreator 2.10.15//
METHOD:PUBLISH
BEGIN:VEVENT
UID:20260422T015654UTC-8039a64RkE@https://www.fbcsheridan.org/
DTSTAMP:20260422T015654Z
DESCRIPTION: https://www.fbcsheridan.org/events/event/4804-wednesday-evenin
 g-service
DTSTART:20460208T030000Z
DTEND:20460208T040000Z
LOCATION:Faith Baptist Church (4101 Riosa Road\, Sheridan\, CA 95681)
SUMMARY:Wednesday Evening Service
URL:https://www.fbcsheridan.org/events/event/4804-wednesday-evening-service
END:VEVENT
END:VCALENDAR
