BEGIN:VCALENDAR
VERSION:2.0
PRODID:-//https://www.fbcsheridan.org///NONSGML kigkonsult.se iCalcreator 2.10.15//
METHOD:PUBLISH
BEGIN:VEVENT
UID:20260419T214510UTC-61897ICpDm@https://www.fbcsheridan.org/
DTSTAMP:20260419T214510Z
DESCRIPTION: https://www.fbcsheridan.org/events/event/890-sunday-morning-wo
 rship-service
DTSTART:20430208T190000Z
DTEND:20430208T200000Z
LOCATION:Faith Baptist Church (4101 Riosa Road\, Sheridan\, CA 95681)
SUMMARY:Sunday Morning Worship Service
URL:https://www.fbcsheridan.org/events/event/890-sunday-morning-worship-ser
 vice
END:VEVENT
BEGIN:VEVENT
UID:20260419T214510UTC-6191wIepM8@https://www.fbcsheridan.org/
DTSTAMP:20260419T214510Z
DESCRIPTION: https://www.fbcsheridan.org/events/event/2142-sunday-school
DTSTART:20430208T180000Z
DTEND:20430208T190000Z
LOCATION:Faith Baptist Church (4101 Riosa Road\, Sheridan\, CA 95681)
SUMMARY:Sunday School
URL:https://www.fbcsheridan.org/events/event/2142-sunday-school
END:VEVENT
BEGIN:VEVENT
UID:20260419T214510UTC-619198lEzO@https://www.fbcsheridan.org/
DTSTAMP:20260419T214510Z
DESCRIPTION: https://www.fbcsheridan.org/events/event/3395-sunday-evening-s
 ervice
DTSTART:20430209T010000Z
DTEND:20430209T020000Z
LOCATION:Faith Baptist Church (4101 Riosa Road\, Sheridan\, CA 95681)
SUMMARY:Sunday Evening Service
URL:https://www.fbcsheridan.org/events/event/3395-sunday-evening-service
END:VEVENT
END:VCALENDAR
