BEGIN:VCALENDAR
VERSION:2.0
PRODID:-//https://www.fbcsheridan.org///NONSGML kigkonsult.se iCalcreator 2.10.15//
METHOD:PUBLISH
BEGIN:VEVENT
UID:20260422T015829UTC-2496woFEVu@https://www.fbcsheridan.org/
DTSTAMP:20260422T015829Z
DESCRIPTION: https://www.fbcsheridan.org/events/event/1047-sunday-morning-w
 orship-service
DTSTART:20460211T190000Z
DTEND:20460211T200000Z
LOCATION:Faith Baptist Church (4101 Riosa Road\, Sheridan\, CA 95681)
SUMMARY:Sunday Morning Worship Service
URL:https://www.fbcsheridan.org/events/event/1047-sunday-morning-worship-se
 rvice
END:VEVENT
BEGIN:VEVENT
UID:20260422T015829UTC-2497bUuntL@https://www.fbcsheridan.org/
DTSTAMP:20260422T015829Z
DESCRIPTION: https://www.fbcsheridan.org/events/event/2299-sunday-school
DTSTART:20460211T180000Z
DTEND:20460211T190000Z
LOCATION:Faith Baptist Church (4101 Riosa Road\, Sheridan\, CA 95681)
SUMMARY:Sunday School
URL:https://www.fbcsheridan.org/events/event/2299-sunday-school
END:VEVENT
BEGIN:VEVENT
UID:20260422T015829UTC-2498IDb0Ic@https://www.fbcsheridan.org/
DTSTAMP:20260422T015829Z
DESCRIPTION: https://www.fbcsheridan.org/events/event/3552-sunday-evening-s
 ervice
DTSTART:20460212T010000Z
DTEND:20460212T020000Z
LOCATION:Faith Baptist Church (4101 Riosa Road\, Sheridan\, CA 95681)
SUMMARY:Sunday Evening Service
URL:https://www.fbcsheridan.org/events/event/3552-sunday-evening-service
END:VEVENT
END:VCALENDAR
