BEGIN:VCALENDAR
VERSION:2.0
PRODID:-//https://www.fbcsheridan.org///NONSGML kigkonsult.se iCalcreator 2.10.15//
METHOD:PUBLISH
BEGIN:VEVENT
UID:20260423T143935UTC-9012VnJsIV@https://www.fbcsheridan.org/
DTSTAMP:20260423T143935Z
DESCRIPTION: https://www.fbcsheridan.org/events/event/4909-wednesday-evenin
 g-service
DTSTART:20480213T030000Z
DTEND:20480213T040000Z
LOCATION:Faith Baptist Church (4101 Riosa Road\, Sheridan\, CA 95681)
SUMMARY:Wednesday Evening Service
URL:https://www.fbcsheridan.org/events/event/4909-wednesday-evening-service
END:VEVENT
END:VCALENDAR
