BEGIN:VCALENDAR
VERSION:2.0
PRODID:-//https://www.fbcsheridan.org///NONSGML kigkonsult.se iCalcreator 2.10.15//
METHOD:PUBLISH
BEGIN:VEVENT
UID:20260422T015732UTC-5327usVrud@https://www.fbcsheridan.org/
DTSTAMP:20260422T015732Z
DESCRIPTION: https://www.fbcsheridan.org/events/event/4805-wednesday-evenin
 g-service
DTSTART:20460215T030000Z
DTEND:20460215T040000Z
LOCATION:Faith Baptist Church (4101 Riosa Road\, Sheridan\, CA 95681)
SUMMARY:Wednesday Evening Service
URL:https://www.fbcsheridan.org/events/event/4805-wednesday-evening-service
END:VEVENT
END:VCALENDAR
