BEGIN:VCALENDAR
VERSION:2.0
PRODID:-//https://www.fbcsheridan.org///NONSGML kigkonsult.se iCalcreator 2.10.15//
METHOD:PUBLISH
BEGIN:VEVENT
UID:20260419T214632UTC-5485fWobhD@https://www.fbcsheridan.org/
DTSTAMP:20260419T214632Z
DESCRIPTION: https://www.fbcsheridan.org/events/event/891-sunday-morning-wo
 rship-service
DTSTART:20430215T190000Z
DTEND:20430215T200000Z
LOCATION:Faith Baptist Church (4101 Riosa Road\, Sheridan\, CA 95681)
SUMMARY:Sunday Morning Worship Service
URL:https://www.fbcsheridan.org/events/event/891-sunday-morning-worship-ser
 vice
END:VEVENT
BEGIN:VEVENT
UID:20260419T214632UTC-54863vUG5g@https://www.fbcsheridan.org/
DTSTAMP:20260419T214632Z
DESCRIPTION: https://www.fbcsheridan.org/events/event/2143-sunday-school
DTSTART:20430215T180000Z
DTEND:20430215T190000Z
LOCATION:Faith Baptist Church (4101 Riosa Road\, Sheridan\, CA 95681)
SUMMARY:Sunday School
URL:https://www.fbcsheridan.org/events/event/2143-sunday-school
END:VEVENT
BEGIN:VEVENT
UID:20260419T214632UTC-5487ZD4UWc@https://www.fbcsheridan.org/
DTSTAMP:20260419T214632Z
DESCRIPTION: https://www.fbcsheridan.org/events/event/3396-sunday-evening-s
 ervice
DTSTART:20430216T010000Z
DTEND:20430216T020000Z
LOCATION:Faith Baptist Church (4101 Riosa Road\, Sheridan\, CA 95681)
SUMMARY:Sunday Evening Service
URL:https://www.fbcsheridan.org/events/event/3396-sunday-evening-service
END:VEVENT
END:VCALENDAR
