BEGIN:VCALENDAR
VERSION:2.0
PRODID:-//https://www.fbcsheridan.org///NONSGML kigkonsult.se iCalcreator 2.10.15//
METHOD:PUBLISH
BEGIN:VEVENT
UID:20260424T111431UTC-9863JwZKHC@https://www.fbcsheridan.org/
DTSTAMP:20260424T111431Z
DESCRIPTION: https://www.fbcsheridan.org/events/event/4962-wednesday-evenin
 g-service
DTSTART:20490218T030000Z
DTEND:20490218T040000Z
LOCATION:Faith Baptist Church (4101 Riosa Road\, Sheridan\, CA 95681)
SUMMARY:Wednesday Evening Service
URL:https://www.fbcsheridan.org/events/event/4962-wednesday-evening-service
END:VEVENT
END:VCALENDAR
