BEGIN:VCALENDAR
VERSION:2.0
PRODID:-//https://www.fbcsheridan.org///NONSGML kigkonsult.se iCalcreator 2.10.15//
METHOD:PUBLISH
BEGIN:VEVENT
UID:20260422T015729UTC-59319NtsZN@https://www.fbcsheridan.org/
DTSTAMP:20260422T015729Z
DESCRIPTION: https://www.fbcsheridan.org/events/event/1048-sunday-morning-w
 orship-service
DTSTART:20460218T190000Z
DTEND:20460218T200000Z
LOCATION:Faith Baptist Church (4101 Riosa Road\, Sheridan\, CA 95681)
SUMMARY:Sunday Morning Worship Service
URL:https://www.fbcsheridan.org/events/event/1048-sunday-morning-worship-se
 rvice
END:VEVENT
BEGIN:VEVENT
UID:20260422T015729UTC-5932z8vf9S@https://www.fbcsheridan.org/
DTSTAMP:20260422T015729Z
DESCRIPTION: https://www.fbcsheridan.org/events/event/2300-sunday-school
DTSTART:20460218T180000Z
DTEND:20460218T190000Z
LOCATION:Faith Baptist Church (4101 Riosa Road\, Sheridan\, CA 95681)
SUMMARY:Sunday School
URL:https://www.fbcsheridan.org/events/event/2300-sunday-school
END:VEVENT
BEGIN:VEVENT
UID:20260422T015729UTC-5933TvExa8@https://www.fbcsheridan.org/
DTSTAMP:20260422T015729Z
DESCRIPTION: https://www.fbcsheridan.org/events/event/3553-sunday-evening-s
 ervice
DTSTART:20460219T010000Z
DTEND:20460219T020000Z
LOCATION:Faith Baptist Church (4101 Riosa Road\, Sheridan\, CA 95681)
SUMMARY:Sunday Evening Service
URL:https://www.fbcsheridan.org/events/event/3553-sunday-evening-service
END:VEVENT
END:VCALENDAR
