BEGIN:VCALENDAR
VERSION:2.0
PRODID:-//https://www.fbcsheridan.org///NONSGML kigkonsult.se iCalcreator 2.10.15//
METHOD:PUBLISH
BEGIN:VEVENT
UID:20260421T085014UTC-6573lxh7XK@https://www.fbcsheridan.org/
DTSTAMP:20260421T085014Z
DESCRIPTION: https://www.fbcsheridan.org/events/event/996-sunday-morning-wo
 rship-service
DTSTART:20450219T190000Z
DTEND:20450219T200000Z
LOCATION:Faith Baptist Church (4101 Riosa Road\, Sheridan\, CA 95681)
SUMMARY:Sunday Morning Worship Service
URL:https://www.fbcsheridan.org/events/event/996-sunday-morning-worship-ser
 vice
END:VEVENT
BEGIN:VEVENT
UID:20260421T085014UTC-6574R17vps@https://www.fbcsheridan.org/
DTSTAMP:20260421T085014Z
DESCRIPTION: https://www.fbcsheridan.org/events/event/2248-sunday-school
DTSTART:20450219T180000Z
DTEND:20450219T190000Z
LOCATION:Faith Baptist Church (4101 Riosa Road\, Sheridan\, CA 95681)
SUMMARY:Sunday School
URL:https://www.fbcsheridan.org/events/event/2248-sunday-school
END:VEVENT
BEGIN:VEVENT
UID:20260421T085014UTC-6575VlBNU2@https://www.fbcsheridan.org/
DTSTAMP:20260421T085014Z
DESCRIPTION: https://www.fbcsheridan.org/events/event/3501-sunday-evening-s
 ervice
DTSTART:20450220T010000Z
DTEND:20450220T020000Z
LOCATION:Faith Baptist Church (4101 Riosa Road\, Sheridan\, CA 95681)
SUMMARY:Sunday Evening Service
URL:https://www.fbcsheridan.org/events/event/3501-sunday-evening-service
END:VEVENT
END:VCALENDAR
