BEGIN:VCALENDAR
VERSION:2.0
PRODID:-//https://www.fbcsheridan.org///NONSGML kigkonsult.se iCalcreator 2.10.15//
METHOD:PUBLISH
BEGIN:VEVENT
UID:20260421T100616UTC-4991vI9UtU@https://www.fbcsheridan.org/
DTSTAMP:20260421T100616Z
DESCRIPTION: https://www.fbcsheridan.org/events/event/4754-wednesday-evenin
 g-service
DTSTART:20450223T030000Z
DTEND:20450223T040000Z
LOCATION:Faith Baptist Church (4101 Riosa Road\, Sheridan\, CA 95681)
SUMMARY:Wednesday Evening Service
URL:https://www.fbcsheridan.org/events/event/4754-wednesday-evening-service
END:VEVENT
END:VCALENDAR
