BEGIN:VCALENDAR
VERSION:2.0
PRODID:-//https://www.fbcsheridan.org///NONSGML kigkonsult.se iCalcreator 2.10.15//
METHOD:PUBLISH
BEGIN:VEVENT
UID:20260421T085047UTC-5756VGMPwa@https://www.fbcsheridan.org/
DTSTAMP:20260421T085047Z
DESCRIPTION: https://www.fbcsheridan.org/events/event/997-sunday-morning-wo
 rship-service
DTSTART:20450226T190000Z
DTEND:20450226T200000Z
LOCATION:Faith Baptist Church (4101 Riosa Road\, Sheridan\, CA 95681)
SUMMARY:Sunday Morning Worship Service
URL:https://www.fbcsheridan.org/events/event/997-sunday-morning-worship-ser
 vice
END:VEVENT
BEGIN:VEVENT
UID:20260421T085047UTC-5757aNfJrF@https://www.fbcsheridan.org/
DTSTAMP:20260421T085047Z
DESCRIPTION: https://www.fbcsheridan.org/events/event/2249-sunday-school
DTSTART:20450226T180000Z
DTEND:20450226T190000Z
LOCATION:Faith Baptist Church (4101 Riosa Road\, Sheridan\, CA 95681)
SUMMARY:Sunday School
URL:https://www.fbcsheridan.org/events/event/2249-sunday-school
END:VEVENT
BEGIN:VEVENT
UID:20260421T085047UTC-5758ipiAMZ@https://www.fbcsheridan.org/
DTSTAMP:20260421T085047Z
DESCRIPTION: https://www.fbcsheridan.org/events/event/3502-sunday-evening-s
 ervice
DTSTART:20450227T010000Z
DTEND:20450227T020000Z
LOCATION:Faith Baptist Church (4101 Riosa Road\, Sheridan\, CA 95681)
SUMMARY:Sunday Evening Service
URL:https://www.fbcsheridan.org/events/event/3502-sunday-evening-service
END:VEVENT
END:VCALENDAR
