BEGIN:VCALENDAR
VERSION:2.0
PRODID:-//https://www.fbcsheridan.org///NONSGML kigkonsult.se iCalcreator 2.10.15//
METHOD:PUBLISH
BEGIN:VEVENT
UID:20260420T144847UTC-7021iRWvz7@https://www.fbcsheridan.org/
DTSTAMP:20260420T144847Z
DESCRIPTION: https://www.fbcsheridan.org/events/event/945-sunday-morning-wo
 rship-service
DTSTART:20440228T190000Z
DTEND:20440228T200000Z
LOCATION:Faith Baptist Church (4101 Riosa Road\, Sheridan\, CA 95681)
SUMMARY:Sunday Morning Worship Service
URL:https://www.fbcsheridan.org/events/event/945-sunday-morning-worship-ser
 vice
END:VEVENT
BEGIN:VEVENT
UID:20260420T144847UTC-7023B9vocm@https://www.fbcsheridan.org/
DTSTAMP:20260420T144847Z
DESCRIPTION: https://www.fbcsheridan.org/events/event/2197-sunday-school
DTSTART:20440228T180000Z
DTEND:20440228T190000Z
LOCATION:Faith Baptist Church (4101 Riosa Road\, Sheridan\, CA 95681)
SUMMARY:Sunday School
URL:https://www.fbcsheridan.org/events/event/2197-sunday-school
END:VEVENT
BEGIN:VEVENT
UID:20260420T144847UTC-7024jHXHs5@https://www.fbcsheridan.org/
DTSTAMP:20260420T144847Z
DESCRIPTION: https://www.fbcsheridan.org/events/event/3450-sunday-evening-s
 ervice
DTSTART:20440229T010000Z
DTEND:20440229T020000Z
LOCATION:Faith Baptist Church (4101 Riosa Road\, Sheridan\, CA 95681)
SUMMARY:Sunday Evening Service
URL:https://www.fbcsheridan.org/events/event/3450-sunday-evening-service
END:VEVENT
END:VCALENDAR
