BEGIN:VCALENDAR
VERSION:2.0
PRODID:-//https://www.fbcsheridan.org///NONSGML kigkonsult.se iCalcreator 2.10.15//
METHOD:PUBLISH
BEGIN:VEVENT
UID:20260422T213344UTC-8900tmn4Kw@https://www.fbcsheridan.org/
DTSTAMP:20260422T213344Z
DESCRIPTION: https://www.fbcsheridan.org/events/event/1102-sunday-morning-w
 orship-service
DTSTART:20470303T190000Z
DTEND:20470303T200000Z
LOCATION:Faith Baptist Church (4101 Riosa Road\, Sheridan\, CA 95681)
SUMMARY:Sunday Morning Worship Service
URL:https://www.fbcsheridan.org/events/event/1102-sunday-morning-worship-se
 rvice
END:VEVENT
BEGIN:VEVENT
UID:20260422T213344UTC-8902XEdClz@https://www.fbcsheridan.org/
DTSTAMP:20260422T213344Z
DESCRIPTION: https://www.fbcsheridan.org/events/event/2354-sunday-school
DTSTART:20470303T180000Z
DTEND:20470303T190000Z
LOCATION:Faith Baptist Church (4101 Riosa Road\, Sheridan\, CA 95681)
SUMMARY:Sunday School
URL:https://www.fbcsheridan.org/events/event/2354-sunday-school
END:VEVENT
BEGIN:VEVENT
UID:20260422T213344UTC-8902G5CNp8@https://www.fbcsheridan.org/
DTSTAMP:20260422T213344Z
DESCRIPTION: https://www.fbcsheridan.org/events/event/3607-sunday-evening-s
 ervice
DTSTART:20470304T010000Z
DTEND:20470304T020000Z
LOCATION:Faith Baptist Church (4101 Riosa Road\, Sheridan\, CA 95681)
SUMMARY:Sunday Evening Service
URL:https://www.fbcsheridan.org/events/event/3607-sunday-evening-service
END:VEVENT
END:VCALENDAR
