BEGIN:VCALENDAR
VERSION:2.0
PRODID:-//https://www.fbcsheridan.org///NONSGML kigkonsult.se iCalcreator 2.10.15//
METHOD:PUBLISH
BEGIN:VEVENT
UID:20260422T033600UTC-5680AlRa0P@https://www.fbcsheridan.org/
DTSTAMP:20260422T033600Z
DESCRIPTION: https://www.fbcsheridan.org/events/event/1050-sunday-morning-w
 orship-service
DTSTART:20460304T190000Z
DTEND:20460304T200000Z
LOCATION:Faith Baptist Church (4101 Riosa Road\, Sheridan\, CA 95681)
SUMMARY:Sunday Morning Worship Service
URL:https://www.fbcsheridan.org/events/event/1050-sunday-morning-worship-se
 rvice
END:VEVENT
BEGIN:VEVENT
UID:20260422T033600UTC-56822Up2lS@https://www.fbcsheridan.org/
DTSTAMP:20260422T033600Z
DESCRIPTION: https://www.fbcsheridan.org/events/event/2302-sunday-school
DTSTART:20460304T180000Z
DTEND:20460304T190000Z
LOCATION:Faith Baptist Church (4101 Riosa Road\, Sheridan\, CA 95681)
SUMMARY:Sunday School
URL:https://www.fbcsheridan.org/events/event/2302-sunday-school
END:VEVENT
BEGIN:VEVENT
UID:20260422T033600UTC-5683MTHSWd@https://www.fbcsheridan.org/
DTSTAMP:20260422T033600Z
DESCRIPTION: https://www.fbcsheridan.org/events/event/3555-sunday-evening-s
 ervice
DTSTART:20460305T010000Z
DTEND:20460305T020000Z
LOCATION:Faith Baptist Church (4101 Riosa Road\, Sheridan\, CA 95681)
SUMMARY:Sunday Evening Service
URL:https://www.fbcsheridan.org/events/event/3555-sunday-evening-service
END:VEVENT
END:VCALENDAR
