BEGIN:VCALENDAR
VERSION:2.0
PRODID:-//https://www.fbcsheridan.org///NONSGML kigkonsult.se iCalcreator 2.10.15//
METHOD:PUBLISH
BEGIN:VEVENT
UID:20260420T161610UTC-0631ecnWV7@https://www.fbcsheridan.org/
DTSTAMP:20260420T161610Z
DESCRIPTION: https://www.fbcsheridan.org/events/event/946-sunday-morning-wo
 rship-service
DTSTART:20440306T190000Z
DTEND:20440306T200000Z
LOCATION:Faith Baptist Church (4101 Riosa Road\, Sheridan\, CA 95681)
SUMMARY:Sunday Morning Worship Service
URL:https://www.fbcsheridan.org/events/event/946-sunday-morning-worship-ser
 vice
END:VEVENT
BEGIN:VEVENT
UID:20260420T161610UTC-0633GWlU9z@https://www.fbcsheridan.org/
DTSTAMP:20260420T161610Z
DESCRIPTION: https://www.fbcsheridan.org/events/event/2198-sunday-school
DTSTART:20440306T180000Z
DTEND:20440306T190000Z
LOCATION:Faith Baptist Church (4101 Riosa Road\, Sheridan\, CA 95681)
SUMMARY:Sunday School
URL:https://www.fbcsheridan.org/events/event/2198-sunday-school
END:VEVENT
BEGIN:VEVENT
UID:20260420T161610UTC-0633759US2@https://www.fbcsheridan.org/
DTSTAMP:20260420T161610Z
DESCRIPTION: https://www.fbcsheridan.org/events/event/3451-sunday-evening-s
 ervice
DTSTART:20440307T010000Z
DTEND:20440307T020000Z
LOCATION:Faith Baptist Church (4101 Riosa Road\, Sheridan\, CA 95681)
SUMMARY:Sunday Evening Service
URL:https://www.fbcsheridan.org/events/event/3451-sunday-evening-service
END:VEVENT
END:VCALENDAR
