BEGIN:VCALENDAR
VERSION:2.0
PRODID:-//https://www.fbcsheridan.org///NONSGML kigkonsult.se iCalcreator 2.10.15//
METHOD:PUBLISH
BEGIN:VEVENT
UID:20260423T160212UTC-9438fvvLrw@https://www.fbcsheridan.org/
DTSTAMP:20260423T160212Z
DESCRIPTION: https://www.fbcsheridan.org/events/event/1155-sunday-morning-w
 orship-service
DTSTART:20480308T180000Z
DTEND:20480308T190000Z
LOCATION:Faith Baptist Church (4101 Riosa Road\, Sheridan\, CA 95681)
SUMMARY:Sunday Morning Worship Service
URL:https://www.fbcsheridan.org/events/event/1155-sunday-morning-worship-se
 rvice
END:VEVENT
BEGIN:VEVENT
UID:20260423T160212UTC-9439ZUIOAn@https://www.fbcsheridan.org/
DTSTAMP:20260423T160212Z
DESCRIPTION: https://www.fbcsheridan.org/events/event/2407-sunday-school
DTSTART:20480308T170000Z
DTEND:20480308T180000Z
LOCATION:Faith Baptist Church (4101 Riosa Road\, Sheridan\, CA 95681)
SUMMARY:Sunday School
URL:https://www.fbcsheridan.org/events/event/2407-sunday-school
END:VEVENT
BEGIN:VEVENT
UID:20260423T160212UTC-9441vRsZ0n@https://www.fbcsheridan.org/
DTSTAMP:20260423T160212Z
DESCRIPTION: https://www.fbcsheridan.org/events/event/3660-sunday-evening-s
 ervice
DTSTART:20480309T000000Z
DTEND:20480309T010000Z
LOCATION:Faith Baptist Church (4101 Riosa Road\, Sheridan\, CA 95681)
SUMMARY:Sunday Evening Service
URL:https://www.fbcsheridan.org/events/event/3660-sunday-evening-service
END:VEVENT
END:VCALENDAR
