BEGIN:VCALENDAR
VERSION:2.0
PRODID:-//https://www.fbcsheridan.org///NONSGML kigkonsult.se iCalcreator 2.10.15//
METHOD:PUBLISH
BEGIN:VEVENT
UID:20260422T213333UTC-8521ejxZnU@https://www.fbcsheridan.org/
DTSTAMP:20260422T213333Z
DESCRIPTION: https://www.fbcsheridan.org/events/event/1103-sunday-morning-w
 orship-service
DTSTART:20470310T180000Z
DTEND:20470310T190000Z
LOCATION:Faith Baptist Church (4101 Riosa Road\, Sheridan\, CA 95681)
SUMMARY:Sunday Morning Worship Service
URL:https://www.fbcsheridan.org/events/event/1103-sunday-morning-worship-se
 rvice
END:VEVENT
BEGIN:VEVENT
UID:20260422T213333UTC-8522EeNeAd@https://www.fbcsheridan.org/
DTSTAMP:20260422T213333Z
DESCRIPTION: https://www.fbcsheridan.org/events/event/2355-sunday-school
DTSTART:20470310T170000Z
DTEND:20470310T180000Z
LOCATION:Faith Baptist Church (4101 Riosa Road\, Sheridan\, CA 95681)
SUMMARY:Sunday School
URL:https://www.fbcsheridan.org/events/event/2355-sunday-school
END:VEVENT
BEGIN:VEVENT
UID:20260422T213333UTC-8523zxF8RZ@https://www.fbcsheridan.org/
DTSTAMP:20260422T213333Z
DESCRIPTION: https://www.fbcsheridan.org/events/event/3608-sunday-evening-s
 ervice
DTSTART:20470311T000000Z
DTEND:20470311T010000Z
LOCATION:Faith Baptist Church (4101 Riosa Road\, Sheridan\, CA 95681)
SUMMARY:Sunday Evening Service
URL:https://www.fbcsheridan.org/events/event/3608-sunday-evening-service
END:VEVENT
END:VCALENDAR
