BEGIN:VCALENDAR
VERSION:2.0
PRODID:-//https://www.fbcsheridan.org///NONSGML kigkonsult.se iCalcreator 2.10.15//
METHOD:PUBLISH
BEGIN:VEVENT
UID:20260422T033742UTC-1030nnjh3s@https://www.fbcsheridan.org/
DTSTAMP:20260422T033742Z
DESCRIPTION: https://www.fbcsheridan.org/events/event/1051-sunday-morning-w
 orship-service
DTSTART:20460311T180000Z
DTEND:20460311T190000Z
LOCATION:Faith Baptist Church (4101 Riosa Road\, Sheridan\, CA 95681)
SUMMARY:Sunday Morning Worship Service
URL:https://www.fbcsheridan.org/events/event/1051-sunday-morning-worship-se
 rvice
END:VEVENT
BEGIN:VEVENT
UID:20260422T033742UTC-1032btBCv4@https://www.fbcsheridan.org/
DTSTAMP:20260422T033742Z
DESCRIPTION: https://www.fbcsheridan.org/events/event/2303-sunday-school
DTSTART:20460311T170000Z
DTEND:20460311T180000Z
LOCATION:Faith Baptist Church (4101 Riosa Road\, Sheridan\, CA 95681)
SUMMARY:Sunday School
URL:https://www.fbcsheridan.org/events/event/2303-sunday-school
END:VEVENT
BEGIN:VEVENT
UID:20260422T033742UTC-1032LM1ilt@https://www.fbcsheridan.org/
DTSTAMP:20260422T033742Z
DESCRIPTION: https://www.fbcsheridan.org/events/event/3556-sunday-evening-s
 ervice
DTSTART:20460312T000000Z
DTEND:20460312T010000Z
LOCATION:Faith Baptist Church (4101 Riosa Road\, Sheridan\, CA 95681)
SUMMARY:Sunday Evening Service
URL:https://www.fbcsheridan.org/events/event/3556-sunday-evening-service
END:VEVENT
END:VCALENDAR
