BEGIN:VCALENDAR
VERSION:2.0
PRODID:-//https://www.fbcsheridan.org///NONSGML kigkonsult.se iCalcreator 2.10.15//
METHOD:PUBLISH
BEGIN:VEVENT
UID:20260421T111143UTC-2605eJzI3b@https://www.fbcsheridan.org/
DTSTAMP:20260421T111143Z
DESCRIPTION: https://www.fbcsheridan.org/events/event/999-sunday-morning-wo
 rship-service
DTSTART:20450312T180000Z
DTEND:20450312T190000Z
LOCATION:Faith Baptist Church (4101 Riosa Road\, Sheridan\, CA 95681)
SUMMARY:Sunday Morning Worship Service
URL:https://www.fbcsheridan.org/events/event/999-sunday-morning-worship-ser
 vice
END:VEVENT
BEGIN:VEVENT
UID:20260421T111143UTC-2606Pf7UHG@https://www.fbcsheridan.org/
DTSTAMP:20260421T111143Z
DESCRIPTION: https://www.fbcsheridan.org/events/event/2251-sunday-school
DTSTART:20450312T170000Z
DTEND:20450312T180000Z
LOCATION:Faith Baptist Church (4101 Riosa Road\, Sheridan\, CA 95681)
SUMMARY:Sunday School
URL:https://www.fbcsheridan.org/events/event/2251-sunday-school
END:VEVENT
BEGIN:VEVENT
UID:20260421T111143UTC-26074IT9vv@https://www.fbcsheridan.org/
DTSTAMP:20260421T111143Z
DESCRIPTION: https://www.fbcsheridan.org/events/event/3504-sunday-evening-s
 ervice
DTSTART:20450313T000000Z
DTEND:20450313T010000Z
LOCATION:Faith Baptist Church (4101 Riosa Road\, Sheridan\, CA 95681)
SUMMARY:Sunday Evening Service
URL:https://www.fbcsheridan.org/events/event/3504-sunday-evening-service
END:VEVENT
END:VCALENDAR
