BEGIN:VCALENDAR
VERSION:2.0
PRODID:-//https://www.fbcsheridan.org///NONSGML kigkonsult.se iCalcreator 2.10.15//
METHOD:PUBLISH
BEGIN:VEVENT
UID:20260423T161047UTC-7221oVAH58@https://www.fbcsheridan.org/
DTSTAMP:20260423T161047Z
DESCRIPTION: https://www.fbcsheridan.org/events/event/1156-sunday-morning-w
 orship-service
DTSTART:20480315T180000Z
DTEND:20480315T190000Z
LOCATION:Faith Baptist Church (4101 Riosa Road\, Sheridan\, CA 95681)
SUMMARY:Sunday Morning Worship Service
URL:https://www.fbcsheridan.org/events/event/1156-sunday-morning-worship-se
 rvice
END:VEVENT
BEGIN:VEVENT
UID:20260423T161047UTC-7222EeS9ZP@https://www.fbcsheridan.org/
DTSTAMP:20260423T161047Z
DESCRIPTION: https://www.fbcsheridan.org/events/event/2408-sunday-school
DTSTART:20480315T170000Z
DTEND:20480315T180000Z
LOCATION:Faith Baptist Church (4101 Riosa Road\, Sheridan\, CA 95681)
SUMMARY:Sunday School
URL:https://www.fbcsheridan.org/events/event/2408-sunday-school
END:VEVENT
BEGIN:VEVENT
UID:20260423T161047UTC-7223VarWuP@https://www.fbcsheridan.org/
DTSTAMP:20260423T161047Z
DESCRIPTION: https://www.fbcsheridan.org/events/event/3661-sunday-evening-s
 ervice
DTSTART:20480316T000000Z
DTEND:20480316T010000Z
LOCATION:Faith Baptist Church (4101 Riosa Road\, Sheridan\, CA 95681)
SUMMARY:Sunday Evening Service
URL:https://www.fbcsheridan.org/events/event/3661-sunday-evening-service
END:VEVENT
END:VCALENDAR
