BEGIN:VCALENDAR
VERSION:2.0
PRODID:-//https://www.fbcsheridan.org///NONSGML kigkonsult.se iCalcreator 2.10.15//
METHOD:PUBLISH
BEGIN:VEVENT
UID:20260422T033743UTC-0895B9cee6@https://www.fbcsheridan.org/
DTSTAMP:20260422T033743Z
DESCRIPTION: https://www.fbcsheridan.org/events/event/1052-sunday-morning-w
 orship-service
DTSTART:20460318T180000Z
DTEND:20460318T190000Z
LOCATION:Faith Baptist Church (4101 Riosa Road\, Sheridan\, CA 95681)
SUMMARY:Sunday Morning Worship Service
URL:https://www.fbcsheridan.org/events/event/1052-sunday-morning-worship-se
 rvice
END:VEVENT
BEGIN:VEVENT
UID:20260422T033743UTC-0896KUWU3r@https://www.fbcsheridan.org/
DTSTAMP:20260422T033743Z
DESCRIPTION: https://www.fbcsheridan.org/events/event/2304-sunday-school
DTSTART:20460318T170000Z
DTEND:20460318T180000Z
LOCATION:Faith Baptist Church (4101 Riosa Road\, Sheridan\, CA 95681)
SUMMARY:Sunday School
URL:https://www.fbcsheridan.org/events/event/2304-sunday-school
END:VEVENT
BEGIN:VEVENT
UID:20260422T033743UTC-08976LzLuN@https://www.fbcsheridan.org/
DTSTAMP:20260422T033743Z
DESCRIPTION: https://www.fbcsheridan.org/events/event/3557-sunday-evening-s
 ervice
DTSTART:20460319T000000Z
DTEND:20460319T010000Z
LOCATION:Faith Baptist Church (4101 Riosa Road\, Sheridan\, CA 95681)
SUMMARY:Sunday Evening Service
URL:https://www.fbcsheridan.org/events/event/3557-sunday-evening-service
END:VEVENT
END:VCALENDAR
