BEGIN:VCALENDAR
VERSION:2.0
PRODID:-//https://www.fbcsheridan.org///NONSGML kigkonsult.se iCalcreator 2.10.15//
METHOD:PUBLISH
BEGIN:VEVENT
UID:20260421T100022UTC-7200duvTeh@https://www.fbcsheridan.org/
DTSTAMP:20260421T100022Z
DESCRIPTION: https://www.fbcsheridan.org/events/event/1000-sunday-morning-w
 orship-service
DTSTART:20450319T180000Z
DTEND:20450319T190000Z
LOCATION:Faith Baptist Church (4101 Riosa Road\, Sheridan\, CA 95681)
SUMMARY:Sunday Morning Worship Service
URL:https://www.fbcsheridan.org/events/event/1000-sunday-morning-worship-se
 rvice
END:VEVENT
BEGIN:VEVENT
UID:20260421T100022UTC-7201d18W84@https://www.fbcsheridan.org/
DTSTAMP:20260421T100022Z
DESCRIPTION: https://www.fbcsheridan.org/events/event/2252-sunday-school
DTSTART:20450319T170000Z
DTEND:20450319T180000Z
LOCATION:Faith Baptist Church (4101 Riosa Road\, Sheridan\, CA 95681)
SUMMARY:Sunday School
URL:https://www.fbcsheridan.org/events/event/2252-sunday-school
END:VEVENT
BEGIN:VEVENT
UID:20260421T100022UTC-7202bcMZE9@https://www.fbcsheridan.org/
DTSTAMP:20260421T100022Z
DESCRIPTION: https://www.fbcsheridan.org/events/event/3505-sunday-evening-s
 ervice
DTSTART:20450320T000000Z
DTEND:20450320T010000Z
LOCATION:Faith Baptist Church (4101 Riosa Road\, Sheridan\, CA 95681)
SUMMARY:Sunday Evening Service
URL:https://www.fbcsheridan.org/events/event/3505-sunday-evening-service
END:VEVENT
END:VCALENDAR
