BEGIN:VCALENDAR
VERSION:2.0
PRODID:-//https://www.fbcsheridan.org///NONSGML kigkonsult.se iCalcreator 2.10.15//
METHOD:PUBLISH
BEGIN:VEVENT
UID:20260420T161609UTC-2723m9H2MC@https://www.fbcsheridan.org/
DTSTAMP:20260420T161609Z
DESCRIPTION: https://www.fbcsheridan.org/events/event/948-sunday-morning-wo
 rship-service
DTSTART:20440320T180000Z
DTEND:20440320T190000Z
LOCATION:Faith Baptist Church (4101 Riosa Road\, Sheridan\, CA 95681)
SUMMARY:Sunday Morning Worship Service
URL:https://www.fbcsheridan.org/events/event/948-sunday-morning-worship-ser
 vice
END:VEVENT
BEGIN:VEVENT
UID:20260420T161609UTC-2724LEC6m0@https://www.fbcsheridan.org/
DTSTAMP:20260420T161609Z
DESCRIPTION: https://www.fbcsheridan.org/events/event/2200-sunday-school
DTSTART:20440320T170000Z
DTEND:20440320T180000Z
LOCATION:Faith Baptist Church (4101 Riosa Road\, Sheridan\, CA 95681)
SUMMARY:Sunday School
URL:https://www.fbcsheridan.org/events/event/2200-sunday-school
END:VEVENT
BEGIN:VEVENT
UID:20260420T161609UTC-27252UjVvN@https://www.fbcsheridan.org/
DTSTAMP:20260420T161609Z
DESCRIPTION: https://www.fbcsheridan.org/events/event/3453-sunday-evening-s
 ervice
DTSTART:20440321T000000Z
DTEND:20440321T010000Z
LOCATION:Faith Baptist Church (4101 Riosa Road\, Sheridan\, CA 95681)
SUMMARY:Sunday Evening Service
URL:https://www.fbcsheridan.org/events/event/3453-sunday-evening-service
END:VEVENT
END:VCALENDAR
