BEGIN:VCALENDAR
VERSION:2.0
PRODID:-//https://www.fbcsheridan.org///NONSGML kigkonsult.se iCalcreator 2.10.15//
METHOD:PUBLISH
BEGIN:VEVENT
UID:20260422T213334UTC-06955j19Ot@https://www.fbcsheridan.org/
DTSTAMP:20260422T213334Z
DESCRIPTION: https://www.fbcsheridan.org/events/event/4862-wednesday-evenin
 g-service
DTSTART:20470321T020000Z
DTEND:20470321T030000Z
LOCATION:Faith Baptist Church (4101 Riosa Road\, Sheridan\, CA 95681)
SUMMARY:Wednesday Evening Service
URL:https://www.fbcsheridan.org/events/event/4862-wednesday-evening-service
END:VEVENT
END:VCALENDAR
