BEGIN:VCALENDAR
VERSION:2.0
PRODID:-//https://www.fbcsheridan.org///NONSGML kigkonsult.se iCalcreator 2.10.15//
METHOD:PUBLISH
BEGIN:VEVENT
UID:20260420T161713UTC-0921OBoUaP@https://www.fbcsheridan.org/
DTSTAMP:20260420T161713Z
DESCRIPTION: https://www.fbcsheridan.org/events/event/949-sunday-morning-wo
 rship-service
DTSTART:20440327T180000Z
DTEND:20440327T190000Z
LOCATION:Faith Baptist Church (4101 Riosa Road\, Sheridan\, CA 95681)
SUMMARY:Sunday Morning Worship Service
URL:https://www.fbcsheridan.org/events/event/949-sunday-morning-worship-ser
 vice
END:VEVENT
BEGIN:VEVENT
UID:20260420T161713UTC-0922oZ3e3R@https://www.fbcsheridan.org/
DTSTAMP:20260420T161713Z
DESCRIPTION: https://www.fbcsheridan.org/events/event/2201-sunday-school
DTSTART:20440327T170000Z
DTEND:20440327T180000Z
LOCATION:Faith Baptist Church (4101 Riosa Road\, Sheridan\, CA 95681)
SUMMARY:Sunday School
URL:https://www.fbcsheridan.org/events/event/2201-sunday-school
END:VEVENT
BEGIN:VEVENT
UID:20260420T161713UTC-0923HI8MKo@https://www.fbcsheridan.org/
DTSTAMP:20260420T161713Z
DESCRIPTION: https://www.fbcsheridan.org/events/event/3454-sunday-evening-s
 ervice
DTSTART:20440328T000000Z
DTEND:20440328T010000Z
LOCATION:Faith Baptist Church (4101 Riosa Road\, Sheridan\, CA 95681)
SUMMARY:Sunday Evening Service
URL:https://www.fbcsheridan.org/events/event/3454-sunday-evening-service
END:VEVENT
END:VCALENDAR
