BEGIN:VCALENDAR
VERSION:2.0
PRODID:-//https://www.fbcsheridan.org///NONSGML kigkonsult.se iCalcreator 2.10.15//
METHOD:PUBLISH
BEGIN:VEVENT
UID:20260422T213331UTC-7601Zst6LO@https://www.fbcsheridan.org/
DTSTAMP:20260422T213331Z
DESCRIPTION: https://www.fbcsheridan.org/events/event/4863-wednesday-evenin
 g-service
DTSTART:20470328T020000Z
DTEND:20470328T030000Z
LOCATION:Faith Baptist Church (4101 Riosa Road\, Sheridan\, CA 95681)
SUMMARY:Wednesday Evening Service
URL:https://www.fbcsheridan.org/events/event/4863-wednesday-evening-service
END:VEVENT
END:VCALENDAR
