BEGIN:VCALENDAR
VERSION:2.0
PRODID:-//https://www.fbcsheridan.org///NONSGML kigkonsult.se iCalcreator 2.10.15//
METHOD:PUBLISH
BEGIN:VEVENT
UID:20260419T225937UTC-4563TvznMG@https://www.fbcsheridan.org/
DTSTAMP:20260419T225937Z
DESCRIPTION: https://www.fbcsheridan.org/events/event/897-sunday-morning-wo
 rship-service
DTSTART:20430329T180000Z
DTEND:20430329T190000Z
LOCATION:Faith Baptist Church (4101 Riosa Road\, Sheridan\, CA 95681)
SUMMARY:Sunday Morning Worship Service
URL:https://www.fbcsheridan.org/events/event/897-sunday-morning-worship-ser
 vice
END:VEVENT
BEGIN:VEVENT
UID:20260419T225937UTC-4565xow1Ik@https://www.fbcsheridan.org/
DTSTAMP:20260419T225937Z
DESCRIPTION: https://www.fbcsheridan.org/events/event/2149-sunday-school
DTSTART:20430329T170000Z
DTEND:20430329T180000Z
LOCATION:Faith Baptist Church (4101 Riosa Road\, Sheridan\, CA 95681)
SUMMARY:Sunday School
URL:https://www.fbcsheridan.org/events/event/2149-sunday-school
END:VEVENT
BEGIN:VEVENT
UID:20260419T225937UTC-4566lBe7o1@https://www.fbcsheridan.org/
DTSTAMP:20260419T225937Z
DESCRIPTION: https://www.fbcsheridan.org/events/event/3402-sunday-evening-s
 ervice
DTSTART:20430330T000000Z
DTEND:20430330T010000Z
LOCATION:Faith Baptist Church (4101 Riosa Road\, Sheridan\, CA 95681)
SUMMARY:Sunday Evening Service
URL:https://www.fbcsheridan.org/events/event/3402-sunday-evening-service
END:VEVENT
END:VCALENDAR
