BEGIN:VCALENDAR
VERSION:2.0
PRODID:-//https://www.fbcsheridan.org///NONSGML kigkonsult.se iCalcreator 2.10.15//
METHOD:PUBLISH
BEGIN:VEVENT
UID:20260423T160213UTC-2090DZnkJ9@https://www.fbcsheridan.org/
DTSTAMP:20260423T160213Z
DESCRIPTION: https://www.fbcsheridan.org/events/event/1158-sunday-morning-w
 orship-service
DTSTART:20480329T180000Z
DTEND:20480329T190000Z
LOCATION:Faith Baptist Church (4101 Riosa Road\, Sheridan\, CA 95681)
SUMMARY:Sunday Morning Worship Service
URL:https://www.fbcsheridan.org/events/event/1158-sunday-morning-worship-se
 rvice
END:VEVENT
BEGIN:VEVENT
UID:20260423T160213UTC-2091Rr25Xa@https://www.fbcsheridan.org/
DTSTAMP:20260423T160213Z
DESCRIPTION: https://www.fbcsheridan.org/events/event/2410-sunday-school
DTSTART:20480329T170000Z
DTEND:20480329T180000Z
LOCATION:Faith Baptist Church (4101 Riosa Road\, Sheridan\, CA 95681)
SUMMARY:Sunday School
URL:https://www.fbcsheridan.org/events/event/2410-sunday-school
END:VEVENT
BEGIN:VEVENT
UID:20260423T160213UTC-2092Ffix1z@https://www.fbcsheridan.org/
DTSTAMP:20260423T160213Z
DESCRIPTION: https://www.fbcsheridan.org/events/event/3663-sunday-evening-s
 ervice
DTSTART:20480330T000000Z
DTEND:20480330T010000Z
LOCATION:Faith Baptist Church (4101 Riosa Road\, Sheridan\, CA 95681)
SUMMARY:Sunday Evening Service
URL:https://www.fbcsheridan.org/events/event/3663-sunday-evening-service
END:VEVENT
END:VCALENDAR
