BEGIN:VCALENDAR
VERSION:2.0
PRODID:-//https://www.fbcsheridan.org///NONSGML kigkonsult.se iCalcreator 2.10.15//
METHOD:PUBLISH
BEGIN:VEVENT
UID:20260422T231021UTC-3816xPz0NR@https://www.fbcsheridan.org/
DTSTAMP:20260422T231021Z
DESCRIPTION: https://www.fbcsheridan.org/events/event/1107-sunday-morning-w
 orship-service
DTSTART:20470407T180000Z
DTEND:20470407T190000Z
LOCATION:Faith Baptist Church (4101 Riosa Road\, Sheridan\, CA 95681)
SUMMARY:Sunday Morning Worship Service
URL:https://www.fbcsheridan.org/events/event/1107-sunday-morning-worship-se
 rvice
END:VEVENT
BEGIN:VEVENT
UID:20260422T231021UTC-3819U2tzKF@https://www.fbcsheridan.org/
DTSTAMP:20260422T231021Z
DESCRIPTION: https://www.fbcsheridan.org/events/event/2359-sunday-school
DTSTART:20470407T170000Z
DTEND:20470407T180000Z
LOCATION:Faith Baptist Church (4101 Riosa Road\, Sheridan\, CA 95681)
SUMMARY:Sunday School
URL:https://www.fbcsheridan.org/events/event/2359-sunday-school
END:VEVENT
BEGIN:VEVENT
UID:20260422T231021UTC-3820bwdMbH@https://www.fbcsheridan.org/
DTSTAMP:20260422T231021Z
DESCRIPTION: https://www.fbcsheridan.org/events/event/3612-sunday-evening-s
 ervice
DTSTART:20470408T000000Z
DTEND:20470408T010000Z
LOCATION:Faith Baptist Church (4101 Riosa Road\, Sheridan\, CA 95681)
SUMMARY:Sunday Evening Service
URL:https://www.fbcsheridan.org/events/event/3612-sunday-evening-service
END:VEVENT
END:VCALENDAR
