BEGIN:VCALENDAR
VERSION:2.0
PRODID:-//https://www.fbcsheridan.org///NONSGML kigkonsult.se iCalcreator 2.10.15//
METHOD:PUBLISH
BEGIN:VEVENT
UID:20260424T142337UTC-8989dAzD3h@https://www.fbcsheridan.org/
DTSTAMP:20260424T142337Z
DESCRIPTION: https://www.fbcsheridan.org/events/event/1212-sunday-morning-w
 orship-service
DTSTART:20490411T180000Z
DTEND:20490411T190000Z
LOCATION:Faith Baptist Church (4101 Riosa Road\, Sheridan\, CA 95681)
SUMMARY:Sunday Morning Worship Service
URL:https://www.fbcsheridan.org/events/event/1212-sunday-morning-worship-se
 rvice
END:VEVENT
BEGIN:VEVENT
UID:20260424T142337UTC-8991ed8hLr@https://www.fbcsheridan.org/
DTSTAMP:20260424T142337Z
DESCRIPTION: https://www.fbcsheridan.org/events/event/2464-sunday-school
DTSTART:20490411T170000Z
DTEND:20490411T180000Z
LOCATION:Faith Baptist Church (4101 Riosa Road\, Sheridan\, CA 95681)
SUMMARY:Sunday School
URL:https://www.fbcsheridan.org/events/event/2464-sunday-school
END:VEVENT
BEGIN:VEVENT
UID:20260424T142337UTC-8991aDd9VO@https://www.fbcsheridan.org/
DTSTAMP:20260424T142337Z
DESCRIPTION: https://www.fbcsheridan.org/events/event/3717-sunday-evening-s
 ervice
DTSTART:20490412T000000Z
DTEND:20490412T010000Z
LOCATION:Faith Baptist Church (4101 Riosa Road\, Sheridan\, CA 95681)
SUMMARY:Sunday Evening Service
URL:https://www.fbcsheridan.org/events/event/3717-sunday-evening-service
END:VEVENT
END:VCALENDAR
