BEGIN:VCALENDAR
VERSION:2.0
PRODID:-//https://www.fbcsheridan.org///NONSGML kigkonsult.se iCalcreator 2.10.15//
METHOD:PUBLISH
BEGIN:VEVENT
UID:20260422T231021UTC-0230RurUu4@https://www.fbcsheridan.org/
DTSTAMP:20260422T231021Z
DESCRIPTION: https://www.fbcsheridan.org/events/event/1108-sunday-morning-w
 orship-service
DTSTART:20470414T180000Z
DTEND:20470414T190000Z
LOCATION:Faith Baptist Church (4101 Riosa Road\, Sheridan\, CA 95681)
SUMMARY:Sunday Morning Worship Service
URL:https://www.fbcsheridan.org/events/event/1108-sunday-morning-worship-se
 rvice
END:VEVENT
BEGIN:VEVENT
UID:20260422T231021UTC-0232d37iPu@https://www.fbcsheridan.org/
DTSTAMP:20260422T231021Z
DESCRIPTION: https://www.fbcsheridan.org/events/event/2360-sunday-school
DTSTART:20470414T170000Z
DTEND:20470414T180000Z
LOCATION:Faith Baptist Church (4101 Riosa Road\, Sheridan\, CA 95681)
SUMMARY:Sunday School
URL:https://www.fbcsheridan.org/events/event/2360-sunday-school
END:VEVENT
BEGIN:VEVENT
UID:20260422T231021UTC-0233SDWBVd@https://www.fbcsheridan.org/
DTSTAMP:20260422T231021Z
DESCRIPTION: https://www.fbcsheridan.org/events/event/3613-sunday-evening-s
 ervice
DTSTART:20470415T000000Z
DTEND:20470415T010000Z
LOCATION:Faith Baptist Church (4101 Riosa Road\, Sheridan\, CA 95681)
SUMMARY:Sunday Evening Service
URL:https://www.fbcsheridan.org/events/event/3613-sunday-evening-service
END:VEVENT
END:VCALENDAR
