BEGIN:VCALENDAR
VERSION:2.0
PRODID:-//https://www.fbcsheridan.org///NONSGML kigkonsult.se iCalcreator 2.10.15//
METHOD:PUBLISH
BEGIN:VEVENT
UID:20260420T175044UTC-6887hkesgv@https://www.fbcsheridan.org/
DTSTAMP:20260420T175044Z
DESCRIPTION: https://www.fbcsheridan.org/events/event/952-sunday-morning-wo
 rship-service
DTSTART:20440417T180000Z
DTEND:20440417T190000Z
LOCATION:Faith Baptist Church (4101 Riosa Road\, Sheridan\, CA 95681)
SUMMARY:Sunday Morning Worship Service
URL:https://www.fbcsheridan.org/events/event/952-sunday-morning-worship-ser
 vice
END:VEVENT
BEGIN:VEVENT
UID:20260420T175044UTC-6889uNRcRb@https://www.fbcsheridan.org/
DTSTAMP:20260420T175044Z
DESCRIPTION: https://www.fbcsheridan.org/events/event/2204-sunday-school
DTSTART:20440417T170000Z
DTEND:20440417T180000Z
LOCATION:Faith Baptist Church (4101 Riosa Road\, Sheridan\, CA 95681)
SUMMARY:Sunday School
URL:https://www.fbcsheridan.org/events/event/2204-sunday-school
END:VEVENT
BEGIN:VEVENT
UID:20260420T175044UTC-68905aexA3@https://www.fbcsheridan.org/
DTSTAMP:20260420T175044Z
DESCRIPTION: https://www.fbcsheridan.org/events/event/3457-sunday-evening-s
 ervice
DTSTART:20440418T000000Z
DTEND:20440418T010000Z
LOCATION:Faith Baptist Church (4101 Riosa Road\, Sheridan\, CA 95681)
SUMMARY:Sunday Evening Service
URL:https://www.fbcsheridan.org/events/event/3457-sunday-evening-service
END:VEVENT
END:VCALENDAR
