BEGIN:VCALENDAR
VERSION:2.0
PRODID:-//https://www.fbcsheridan.org///NONSGML kigkonsult.se iCalcreator 2.10.15//
METHOD:PUBLISH
BEGIN:VEVENT
UID:20260421T122413UTC-3815c5cAwC@https://www.fbcsheridan.org/
DTSTAMP:20260421T122413Z
DESCRIPTION: https://www.fbcsheridan.org/events/event/4762-wednesday-evenin
 g-service
DTSTART:20450420T020000Z
DTEND:20450420T030000Z
LOCATION:Faith Baptist Church (4101 Riosa Road\, Sheridan\, CA 95681)
SUMMARY:Wednesday Evening Service
URL:https://www.fbcsheridan.org/events/event/4762-wednesday-evening-service
END:VEVENT
END:VCALENDAR
