BEGIN:VCALENDAR
VERSION:2.0
PRODID:-//https://www.fbcsheridan.org///NONSGML kigkonsult.se iCalcreator 2.10.15//
METHOD:PUBLISH
BEGIN:VEVENT
UID:20260422T050728UTC-9016HRhiev@https://www.fbcsheridan.org/
DTSTAMP:20260422T050728Z
DESCRIPTION: https://www.fbcsheridan.org/events/event/4815-wednesday-evenin
 g-service
DTSTART:20460426T020000Z
DTEND:20460426T030000Z
LOCATION:Faith Baptist Church (4101 Riosa Road\, Sheridan\, CA 95681)
SUMMARY:Wednesday Evening Service
URL:https://www.fbcsheridan.org/events/event/4815-wednesday-evening-service
END:VEVENT
END:VCALENDAR
