BEGIN:VCALENDAR
VERSION:2.0
PRODID:-//https://www.fbcsheridan.org///NONSGML kigkonsult.se iCalcreator 2.10.15//
METHOD:PUBLISH
BEGIN:VEVENT
UID:20260424T142339UTC-30051vk4vG@https://www.fbcsheridan.org/
DTSTAMP:20260424T142339Z
DESCRIPTION: https://www.fbcsheridan.org/events/event/1214-sunday-morning-w
 orship-service
DTSTART:20490425T180000Z
DTEND:20490425T190000Z
LOCATION:Faith Baptist Church (4101 Riosa Road\, Sheridan\, CA 95681)
SUMMARY:Sunday Morning Worship Service
URL:https://www.fbcsheridan.org/events/event/1214-sunday-morning-worship-se
 rvice
END:VEVENT
BEGIN:VEVENT
UID:20260424T142339UTC-3006WwTieU@https://www.fbcsheridan.org/
DTSTAMP:20260424T142339Z
DESCRIPTION: https://www.fbcsheridan.org/events/event/2466-sunday-school
DTSTART:20490425T170000Z
DTEND:20490425T180000Z
LOCATION:Faith Baptist Church (4101 Riosa Road\, Sheridan\, CA 95681)
SUMMARY:Sunday School
URL:https://www.fbcsheridan.org/events/event/2466-sunday-school
END:VEVENT
BEGIN:VEVENT
UID:20260424T142339UTC-3007nvMZu1@https://www.fbcsheridan.org/
DTSTAMP:20260424T142339Z
DESCRIPTION: https://www.fbcsheridan.org/events/event/3719-sunday-evening-s
 ervice
DTSTART:20490426T000000Z
DTEND:20490426T010000Z
LOCATION:Faith Baptist Church (4101 Riosa Road\, Sheridan\, CA 95681)
SUMMARY:Sunday Evening Service
URL:https://www.fbcsheridan.org/events/event/3719-sunday-evening-service
END:VEVENT
END:VCALENDAR
