BEGIN:VCALENDAR
VERSION:2.0
PRODID:-//https://www.fbcsheridan.org///NONSGML kigkonsult.se iCalcreator 2.10.15//
METHOD:PUBLISH
BEGIN:VEVENT
UID:20260420T001840UTC-6347jVBZ5x@https://www.fbcsheridan.org/
DTSTAMP:20260420T001840Z
DESCRIPTION: https://www.fbcsheridan.org/events/event/901-sunday-morning-wo
 rship-service
DTSTART:20430426T180000Z
DTEND:20430426T190000Z
LOCATION:Faith Baptist Church (4101 Riosa Road\, Sheridan\, CA 95681)
SUMMARY:Sunday Morning Worship Service
URL:https://www.fbcsheridan.org/events/event/901-sunday-morning-worship-ser
 vice
END:VEVENT
BEGIN:VEVENT
UID:20260420T001840UTC-6348tvZwC7@https://www.fbcsheridan.org/
DTSTAMP:20260420T001840Z
DESCRIPTION: https://www.fbcsheridan.org/events/event/2153-sunday-school
DTSTART:20430426T170000Z
DTEND:20430426T180000Z
LOCATION:Faith Baptist Church (4101 Riosa Road\, Sheridan\, CA 95681)
SUMMARY:Sunday School
URL:https://www.fbcsheridan.org/events/event/2153-sunday-school
END:VEVENT
BEGIN:VEVENT
UID:20260420T001840UTC-63492m6PMj@https://www.fbcsheridan.org/
DTSTAMP:20260420T001840Z
DESCRIPTION: https://www.fbcsheridan.org/events/event/3406-sunday-evening-s
 ervice
DTSTART:20430427T000000Z
DTEND:20430427T010000Z
LOCATION:Faith Baptist Church (4101 Riosa Road\, Sheridan\, CA 95681)
SUMMARY:Sunday Evening Service
URL:https://www.fbcsheridan.org/events/event/3406-sunday-evening-service
END:VEVENT
END:VCALENDAR
